BEGIN:VCALENDAR
VERSION:2.0
PRODID:-//eventon.com NONSGML v1.0//EN
CALSCALE:GREGORIAN
METHOD:PUBLISH
BEGIN:VEVENT
UID:69e73becdac0f
DTSTAMP:20260421T085716Z
DTSTART:20260613
DTEND:20260614
LOCATION:Festhalle an der Mausmaar Mausmaar Nr. 29\,  53359 Rheinbach
SUMMARY:100 Jahre KGO
DESCRIPTION:100 Jahre KGO\nhttps://www.oberdrees.de/events/100-jahre-kgo/
URL:https://www.oberdrees.de/events/100-jahre-kgo/
END:VEVENT
END:VCALENDAR